Package: rGREAT Version: 2.9.0 Command: rm -rf rGREAT.buildbin-libdir && mkdir rGREAT.buildbin-libdir && /Users/biocbuild/BBS/utils/build-universal.sh rGREAT_2.9.0.tar.gz /Library/Frameworks/R.framework/Resources/bin/R rGREAT.buildbin-libdir StartedAt: 2025-02-09 22:27:27 -0500 (Sun, 09 Feb 2025) EndedAt: 2025-02-09 22:27:48 -0500 (Sun, 09 Feb 2025) EllapsedTime: 20.3 seconds RetCode: 0 Status: OK PackageFile: rGREAT_2.9.0.tgz PackageFileSize: 3.431 MiB