Package: rGREAT Version: 2.9.0 Command: /Library/Frameworks/R.framework/Resources/bin/R CMD build --keep-empty-dirs --no-resave-data rGREAT StartedAt: 2025-02-09 17:23:46 -0500 (Sun, 09 Feb 2025) EndedAt: 2025-02-09 17:24:07 -0500 (Sun, 09 Feb 2025) EllapsedTime: 21.2 seconds RetCode: 0 Status: OK PackageFile: rGREAT_2.9.0.tar.gz PackageFileSize: 2.754 MiB