Package: rGREAT Version: 2.9.0 Command: /Library/Frameworks/R.framework/Resources/bin/R CMD check --install=check:rGREAT.install-out.txt --library=/Library/Frameworks/R.framework/Resources/library --no-vignettes --timings rGREAT_2.9.0.tar.gz StartedAt: 2025-02-09 20:57:30 -0500 (Sun, 09 Feb 2025) EndedAt: 2025-02-09 20:59:35 -0500 (Sun, 09 Feb 2025) EllapsedTime: 124.7 seconds RetCode: 0 Status: OK CheckDir: rGREAT.Rcheck Warnings: 0