Package: rGREAT Version: 2.9.0 Command: /Library/Frameworks/R.framework/Resources/bin/R CMD INSTALL rGREAT StartedAt: 2025-02-09 15:15:25 -0500 (Sun, 09 Feb 2025) EndedAt: 2025-02-09 15:15:42 -0500 (Sun, 09 Feb 2025) EllapsedTime: 17.3 seconds RetCode: 0 Status: OK