Package: rGREAT Version: 2.9.0 Command: /home/biocbuild/R/R/bin/R CMD build --keep-empty-dirs --no-resave-data rGREAT StartedAt: 2025-01-29 01:40:16 -0000 (Wed, 29 Jan 2025) EndedAt: 2025-01-29 01:41:20 -0000 (Wed, 29 Jan 2025) EllapsedTime: 64.0 seconds RetCode: 0 Status: OK PackageFile: rGREAT_2.9.0.tar.gz PackageFileSize: 2.754 MiB