Package: rGREAT Version: 2.9.0 Command: /Library/Frameworks/R.framework/Resources/bin/R CMD build --keep-empty-dirs --no-resave-data rGREAT StartedAt: 2025-02-03 18:06:44 -0500 (Mon, 03 Feb 2025) EndedAt: 2025-02-03 18:07:40 -0500 (Mon, 03 Feb 2025) EllapsedTime: 56.0 seconds RetCode: 0 Status: OK PackageFile: rGREAT_2.9.0.tar.gz PackageFileSize: 2.755 MiB