Package: rGREAT Version: 2.9.0 Command: /home/biocbuild/bbs-3.21-bioc/R/bin/R CMD build --keep-empty-dirs --no-resave-data rGREAT StartedAt: 2025-02-09 18:55:00 -0500 (Sun, 09 Feb 2025) EndedAt: 2025-02-09 18:55:47 -0500 (Sun, 09 Feb 2025) EllapsedTime: 47.0 seconds RetCode: 0 Status: OK PackageFile: rGREAT_2.9.0.tar.gz PackageFileSize: 2.755 MiB