Package: rGREAT Version: 2.9.0 Command: /home/biocbuild/bbs-3.21-bioc/R/bin/R CMD check --install=check:rGREAT.install-out.txt --library=/home/biocbuild/bbs-3.21-bioc/R/site-library --timings rGREAT_2.9.0.tar.gz StartedAt: 2025-02-10 01:53:36 -0500 (Mon, 10 Feb 2025) EndedAt: 2025-02-10 01:58:46 -0500 (Mon, 10 Feb 2025) EllapsedTime: 310.6 seconds RetCode: 0 Status: OK CheckDir: rGREAT.Rcheck Warnings: 0