Package: rGREAT Version: 2.9.0 Command: chmod a+r rGREAT -R && E:\biocbuild\bbs-3.21-bioc\R\bin\R.exe CMD build --keep-empty-dirs --no-resave-data rGREAT StartedAt: 2025-02-09 21:10:04 -0500 (Sun, 09 Feb 2025) EndedAt: 2025-02-09 21:12:14 -0500 (Sun, 09 Feb 2025) EllapsedTime: 130.1 seconds RetCode: 0 Status: OK PackageFile: rGREAT_2.9.0.tar.gz PackageFileSize: 2.755 MiB