Package: rGREAT Version: 2.9.0 Command: E:\biocbuild\bbs-3.21-bioc\R\bin\R.exe CMD check --no-multiarch --install=check:rGREAT.install-out.txt --library=E:\biocbuild\bbs-3.21-bioc\R\library --no-vignettes --timings rGREAT_2.9.0.tar.gz StartedAt: 2025-02-10 04:41:50 -0500 (Mon, 10 Feb 2025) EndedAt: 2025-02-10 04:47:37 -0500 (Mon, 10 Feb 2025) EllapsedTime: 347.5 seconds RetCode: 0 Status: OK CheckDir: rGREAT.Rcheck Warnings: 0