Package: rGREAT Version: 2.9.0 Command: E:\biocbuild\bbs-3.21-bioc\R\bin\R.exe CMD INSTALL rGREAT StartedAt: 2025-02-09 16:47:07 -0500 (Sun, 09 Feb 2025) EndedAt: 2025-02-09 16:48:24 -0500 (Sun, 09 Feb 2025) EllapsedTime: 76.6 seconds RetCode: 0 Status: OK