Package: rGenomeTracks Version: 1.13.0 Command: /home/biocbuild/bbs-3.21-bioc/R/bin/R CMD INSTALL rGenomeTracks StartedAt: 2025-02-09 15:25:17 -0500 (Sun, 09 Feb 2025) EndedAt: 2025-02-09 15:25:23 -0500 (Sun, 09 Feb 2025) EllapsedTime: 6.5 seconds RetCode: 0 Status: OK