Package: rGenomeTracks Version: 1.13.0 Command: chmod a+r rGenomeTracks -R && E:\biocbuild\bbs-3.21-bioc\R\bin\R.exe CMD build --keep-empty-dirs --no-resave-data rGenomeTracks StartedAt: 2025-02-12 21:15:59 -0500 (Wed, 12 Feb 2025) EndedAt: 2025-02-12 21:17:35 -0500 (Wed, 12 Feb 2025) EllapsedTime: 95.4 seconds RetCode: 0 Status: OK PackageFile: rGenomeTracks_1.13.0.tar.gz PackageFileSize: 3.341 MiB