Package: rTRMui Version: 1.45.0 Command: /home/biocbuild/R/R/bin/R CMD build --keep-empty-dirs --no-resave-data rTRMui StartedAt: 2025-01-29 01:54:37 -0000 (Wed, 29 Jan 2025) EndedAt: 2025-01-29 01:56:06 -0000 (Wed, 29 Jan 2025) EllapsedTime: 89.1 seconds RetCode: 0 Status: OK PackageFile: rTRMui_1.45.0.tar.gz PackageFileSize: 1.107 MiB