Package: rTRMui Version: 1.45.0 Command: /home/biocbuild/R/R/bin/R CMD check --install=check:rTRMui.install-out.txt --library=/home/biocbuild/R/R/site-library --no-vignettes --timings rTRMui_1.45.0.tar.gz StartedAt: 2025-01-28 14:48:34 -0000 (Tue, 28 Jan 2025) EndedAt: 2025-01-28 14:55:14 -0000 (Tue, 28 Jan 2025) EllapsedTime: 399.6 seconds RetCode: 0 Status: OK CheckDir: rTRMui.Rcheck Warnings: 0