Package: rTRMui Version: 1.45.0 Command: /home/biocbuild/R/R/bin/R CMD INSTALL rTRMui StartedAt: 2025-01-29 20:06:11 -0000 (Wed, 29 Jan 2025) EndedAt: 2025-01-29 20:07:18 -0000 (Wed, 29 Jan 2025) EllapsedTime: 67.3 seconds RetCode: 0 Status: OK