Package: rTRMui Version: 1.45.0 Command: rm -rf rTRMui.buildbin-libdir && mkdir rTRMui.buildbin-libdir && /Users/biocbuild/BBS/utils/build-universal.sh rTRMui_1.45.0.tar.gz /Library/Frameworks/R.framework/Resources/bin/R rTRMui.buildbin-libdir StartedAt: 2025-02-10 01:13:41 -0500 (Mon, 10 Feb 2025) EndedAt: 2025-02-10 01:14:48 -0500 (Mon, 10 Feb 2025) EllapsedTime: 67.0 seconds RetCode: 0 Status: OK PackageFile: rTRMui_1.45.0.tgz PackageFileSize: 835 KiB