Package: rTRMui Version: 1.45.0 Command: /Library/Frameworks/R.framework/Resources/bin/R CMD build --keep-empty-dirs --no-resave-data rTRMui StartedAt: 2025-02-09 18:15:53 -0500 (Sun, 09 Feb 2025) EndedAt: 2025-02-09 18:17:08 -0500 (Sun, 09 Feb 2025) EllapsedTime: 75.4 seconds RetCode: 0 Status: OK PackageFile: rTRMui_1.45.0.tar.gz PackageFileSize: 1.11 MiB