Package: rTRMui Version: 1.45.0 Command: /Library/Frameworks/R.framework/Resources/bin/R CMD check --install=check:rTRMui.install-out.txt --library=/Library/Frameworks/R.framework/Resources/library --no-vignettes --timings rTRMui_1.45.0.tar.gz StartedAt: 2025-02-12 23:03:11 -0500 (Wed, 12 Feb 2025) EndedAt: 2025-02-12 23:08:25 -0500 (Wed, 12 Feb 2025) EllapsedTime: 314.8 seconds RetCode: 0 Status: OK CheckDir: rTRMui.Rcheck Warnings: 0