Package: rTRMui Version: 1.45.0 Command: /Library/Frameworks/R.framework/Resources/bin/R CMD INSTALL rTRMui StartedAt: 2025-02-09 15:24:49 -0500 (Sun, 09 Feb 2025) EndedAt: 2025-02-09 15:25:52 -0500 (Sun, 09 Feb 2025) EllapsedTime: 62.8 seconds RetCode: 0 Status: OK