Package: rTRMui Version: 1.45.0 Command: /home/biocbuild/bbs-3.21-bioc/R/bin/R CMD check --install=check:rTRMui.install-out.txt --library=/home/biocbuild/bbs-3.21-bioc/R/site-library --timings rTRMui_1.45.0.tar.gz StartedAt: 2025-02-13 02:09:54 -0500 (Thu, 13 Feb 2025) EndedAt: 2025-02-13 02:15:12 -0500 (Thu, 13 Feb 2025) EllapsedTime: 317.5 seconds RetCode: 0 Status: OK CheckDir: rTRMui.Rcheck Warnings: 0