Package: rTRMui Version: 1.45.0 Command: /home/biocbuild/bbs-3.21-bioc/R/bin/R CMD INSTALL rTRMui StartedAt: 2025-02-09 15:59:47 -0500 (Sun, 09 Feb 2025) EndedAt: 2025-02-09 16:00:32 -0500 (Sun, 09 Feb 2025) EllapsedTime: 45.4 seconds RetCode: 0 Status: OK