Package: rTRMui Version: 1.45.0 Command: rm -rf rTRMui.buildbin-libdir && mkdir rTRMui.buildbin-libdir && E:\biocbuild\bbs-3.21-bioc\R\bin\R.exe CMD INSTALL --build --library=rTRMui.buildbin-libdir rTRMui_1.45.0.tar.gz StartedAt: 2025-02-13 08:47:09 -0500 (Thu, 13 Feb 2025) EndedAt: 2025-02-13 08:48:02 -0500 (Thu, 13 Feb 2025) EllapsedTime: 53.1 seconds RetCode: 0 Status: OK PackageFile: rTRMui_1.45.0.zip PackageFileSize: 742.8 KiB