Package: rTRMui Version: 1.45.0 Command: E:\biocbuild\bbs-3.21-bioc\R\bin\R.exe CMD check --no-multiarch --install=check:rTRMui.install-out.txt --library=E:\biocbuild\bbs-3.21-bioc\R\library --no-vignettes --timings rTRMui_1.45.0.tar.gz StartedAt: 2025-02-13 05:05:29 -0500 (Thu, 13 Feb 2025) EndedAt: 2025-02-13 05:10:57 -0500 (Thu, 13 Feb 2025) EllapsedTime: 327.6 seconds RetCode: 0 Status: OK CheckDir: rTRMui.Rcheck Warnings: 0