Package: rTRMui Version: 1.45.0 Command: E:\biocbuild\bbs-3.21-bioc\R\bin\R.exe CMD INSTALL rTRMui StartedAt: 2025-02-12 16:24:31 -0500 (Wed, 12 Feb 2025) EndedAt: 2025-02-12 16:25:28 -0500 (Wed, 12 Feb 2025) EllapsedTime: 56.9 seconds RetCode: 0 Status: OK