Package: raer Version: 1.5.0 Command: /Library/Frameworks/R.framework/Resources/bin/R CMD INSTALL raer StartedAt: 2025-02-04 15:10:55 -0500 (Tue, 04 Feb 2025) EndedAt: 2025-02-04 15:11:14 -0500 (Tue, 04 Feb 2025) EllapsedTime: 18.6 seconds RetCode: 0 Status: OK