Package: raer Version: 1.5.0 Command: /Library/Frameworks/R.framework/Resources/bin/R CMD build --keep-empty-dirs --no-resave-data raer StartedAt: 2025-02-04 17:57:06 -0500 (Tue, 04 Feb 2025) EndedAt: 2025-02-04 18:04:57 -0500 (Tue, 04 Feb 2025) EllapsedTime: 471.0 seconds RetCode: 0 Status: OK PackageFile: raer_1.5.0.tar.gz PackageFileSize: 2.455 MiB