Package: raer Version: 1.5.0 Command: /home/biocbuild/bbs-3.21-bioc/R/bin/R CMD check --install=check:raer.install-out.txt --library=/home/biocbuild/bbs-3.21-bioc/R/site-library --timings raer_1.5.0.tar.gz StartedAt: 2025-02-10 01:39:54 -0500 (Mon, 10 Feb 2025) EndedAt: 2025-02-10 01:53:06 -0500 (Mon, 10 Feb 2025) EllapsedTime: 792.5 seconds RetCode: 0 Status: OK CheckDir: raer.Rcheck Warnings: 0