Package: raer Version: 1.5.0 Command: E:\biocbuild\bbs-3.21-bioc\R\bin\R.exe CMD check --no-multiarch --install=check:raer.install-out.txt --library=E:\biocbuild\bbs-3.21-bioc\R\library --no-vignettes --timings raer_1.5.0.tar.gz StartedAt: 2025-02-13 04:36:15 -0500 (Thu, 13 Feb 2025) EndedAt: 2025-02-13 04:46:03 -0500 (Thu, 13 Feb 2025) EllapsedTime: 588.4 seconds RetCode: 0 Status: OK CheckDir: raer.Rcheck Warnings: 0