Package: rcellminer Version: 2.29.0 Command: rm -rf rcellminer.buildbin-libdir && mkdir rcellminer.buildbin-libdir && /Users/biocbuild/BBS/utils/build-universal.sh rcellminer_2.29.0.tar.gz /Library/Frameworks/R.framework/Resources/bin/R rcellminer.buildbin-libdir StartedAt: 2025-02-10 01:10:41 -0500 (Mon, 10 Feb 2025) EndedAt: 2025-02-10 01:10:55 -0500 (Mon, 10 Feb 2025) EllapsedTime: 13.7 seconds RetCode: 0 Status: OK PackageFile: rcellminer_2.29.0.tgz PackageFileSize: 2.903 MiB