Package: rcellminer Version: 2.29.0 Command: /Library/Frameworks/R.framework/Resources/bin/R CMD build --keep-empty-dirs --no-resave-data rcellminer StartedAt: 2025-02-03 18:03:26 -0500 (Mon, 03 Feb 2025) EndedAt: 2025-02-03 18:06:09 -0500 (Mon, 03 Feb 2025) EllapsedTime: 163.5 seconds RetCode: 0 Status: OK PackageFile: rcellminer_2.29.0.tar.gz PackageFileSize: 2.649 MiB