Package: rcellminer Version: 2.29.0 Command: /Library/Frameworks/R.framework/Resources/bin/R CMD check --install=check:rcellminer.install-out.txt --library=/Library/Frameworks/R.framework/Resources/library --no-vignettes --timings rcellminer_2.29.0.tar.gz StartedAt: 2025-02-09 22:59:50 -0500 (Sun, 09 Feb 2025) EndedAt: 2025-02-09 23:02:06 -0500 (Sun, 09 Feb 2025) EllapsedTime: 136.2 seconds RetCode: 0 Status: WARNINGS CheckDir: rcellminer.Rcheck Warnings: 1