Package: rcellminer Version: 2.29.0 Command: /home/biocbuild/bbs-3.21-bioc/R/bin/R CMD build --keep-empty-dirs --no-resave-data rcellminer StartedAt: 2025-02-03 18:59:23 -0500 (Mon, 03 Feb 2025) EndedAt: 2025-02-03 19:02:13 -0500 (Mon, 03 Feb 2025) EllapsedTime: 170.2 seconds RetCode: 0 Status: OK PackageFile: rcellminer_2.29.0.tar.gz PackageFileSize: 2.541 MiB