Package: rcellminer Version: 2.29.0 Command: /home/biocbuild/bbs-3.21-bioc/R/bin/R CMD check --install=check:rcellminer.install-out.txt --library=/home/biocbuild/bbs-3.21-bioc/R/site-library --timings rcellminer_2.29.0.tar.gz StartedAt: 2025-02-10 01:44:09 -0500 (Mon, 10 Feb 2025) EndedAt: 2025-02-10 01:48:32 -0500 (Mon, 10 Feb 2025) EllapsedTime: 262.6 seconds RetCode: 0 Status: WARNINGS CheckDir: rcellminer.Rcheck Warnings: 1