Package: rcellminer Version: 2.29.0 Command: rm -rf rcellminer.buildbin-libdir && mkdir rcellminer.buildbin-libdir && E:\biocbuild\bbs-3.21-bioc\R\bin\R.exe CMD INSTALL --build --library=rcellminer.buildbin-libdir rcellminer_2.29.0.tar.gz StartedAt: 2025-02-04 08:42:30 -0500 (Tue, 04 Feb 2025) EndedAt: 2025-02-04 08:43:40 -0500 (Tue, 04 Feb 2025) EllapsedTime: 70.3 seconds RetCode: 0 Status: OK PackageFile: rcellminer_2.29.0.zip PackageFileSize: 971.6 KiB