Package: rcellminer Version: 2.29.0 Command: chmod a+r rcellminer -R && E:\biocbuild\bbs-3.21-bioc\R\bin\R.exe CMD build --keep-empty-dirs --no-resave-data rcellminer StartedAt: 2025-02-09 21:03:19 -0500 (Sun, 09 Feb 2025) EndedAt: 2025-02-09 21:06:39 -0500 (Sun, 09 Feb 2025) EllapsedTime: 200.4 seconds RetCode: 0 Status: OK PackageFile: rcellminer_2.29.0.tar.gz PackageFileSize: 706.2 KiB