Package: rcellminer Version: 2.29.0 Command: E:\biocbuild\bbs-3.21-bioc\R\bin\R.exe CMD INSTALL rcellminer StartedAt: 2025-02-09 15:42:07 -0500 (Sun, 09 Feb 2025) EndedAt: 2025-02-09 15:42:50 -0500 (Sun, 09 Feb 2025) EllapsedTime: 42.7 seconds RetCode: 0 Status: OK