Package: reconsi Version: 1.19.0 Command: /Library/Frameworks/R.framework/Resources/bin/R CMD INSTALL reconsi StartedAt: 2025-02-09 15:22:29 -0500 (Sun, 09 Feb 2025) EndedAt: 2025-02-09 15:22:36 -0500 (Sun, 09 Feb 2025) EllapsedTime: 7.4 seconds RetCode: 0 Status: OK