Package: reconsi Version: 1.19.0 Command: /home/biocbuild/R/R/bin/R CMD check --install=check:reconsi.install-out.txt --library=/home/biocbuild/R/R/site-library --no-vignettes --timings reconsi_1.19.0.tar.gz StartedAt: 2025-01-28 14:23:36 -0000 (Tue, 28 Jan 2025) EndedAt: 2025-01-28 14:27:47 -0000 (Tue, 28 Jan 2025) EllapsedTime: 250.3 seconds RetCode: 0 Status: OK CheckDir: reconsi.Rcheck Warnings: 0