Package: reconsi Version: 1.19.0 Command: rm -rf reconsi.buildbin-libdir && mkdir reconsi.buildbin-libdir && /Users/biocbuild/BBS/utils/build-universal.sh reconsi_1.19.0.tar.gz /Library/Frameworks/R.framework/Resources/bin/R reconsi.buildbin-libdir StartedAt: 2025-02-10 01:11:06 -0500 (Mon, 10 Feb 2025) EndedAt: 2025-02-10 01:11:35 -0500 (Mon, 10 Feb 2025) EllapsedTime: 28.8 seconds RetCode: 0 Status: OK PackageFile: reconsi_1.19.0.tgz PackageFileSize: 207.1 KiB