Package: reconsi Version: 1.19.0 Command: /home/biocbuild/bbs-3.21-bioc/R/bin/R CMD build --keep-empty-dirs --no-resave-data reconsi StartedAt: 2025-02-10 19:01:10 -0500 (Mon, 10 Feb 2025) EndedAt: 2025-02-10 19:02:23 -0500 (Mon, 10 Feb 2025) EllapsedTime: 73.1 seconds RetCode: 0 Status: OK PackageFile: reconsi_1.19.0.tar.gz PackageFileSize: 128.4 KiB