Package: reconsi Version: 1.19.0 Command: /home/biocbuild/bbs-3.21-bioc/R/bin/R CMD check --install=check:reconsi.install-out.txt --library=/home/biocbuild/bbs-3.21-bioc/R/site-library --timings reconsi_1.19.0.tar.gz StartedAt: 2025-02-11 01:55:07 -0500 (Tue, 11 Feb 2025) EndedAt: 2025-02-11 01:59:07 -0500 (Tue, 11 Feb 2025) EllapsedTime: 240.4 seconds RetCode: 0 Status: OK CheckDir: reconsi.Rcheck Warnings: 0