Package: reconsi Version: 1.19.0 Command: /home/biocbuild/bbs-3.21-bioc/R/bin/R CMD INSTALL reconsi StartedAt: 2025-02-10 15:30:00 -0500 (Mon, 10 Feb 2025) EndedAt: 2025-02-10 15:30:20 -0500 (Mon, 10 Feb 2025) EllapsedTime: 19.4 seconds RetCode: 0 Status: OK