Package: reconsi Version: 1.19.0 Command: rm -rf reconsi.buildbin-libdir && mkdir reconsi.buildbin-libdir && E:\biocbuild\bbs-3.21-bioc\R\bin\R.exe CMD INSTALL --build --library=reconsi.buildbin-libdir reconsi_1.19.0.tar.gz StartedAt: 2025-02-11 08:43:37 -0500 (Tue, 11 Feb 2025) EndedAt: 2025-02-11 08:44:10 -0500 (Tue, 11 Feb 2025) EllapsedTime: 32.2 seconds RetCode: 0 Status: OK PackageFile: reconsi_1.19.0.zip PackageFileSize: 165.3 KiB