Package: reconsi Version: 1.19.0 Command: chmod a+r reconsi -R && E:\biocbuild\bbs-3.21-bioc\R\bin\R.exe CMD build --keep-empty-dirs --no-resave-data reconsi StartedAt: 2025-02-10 21:18:26 -0500 (Mon, 10 Feb 2025) EndedAt: 2025-02-10 21:20:04 -0500 (Mon, 10 Feb 2025) EllapsedTime: 98.2 seconds RetCode: 0 Status: OK PackageFile: reconsi_1.19.0.tar.gz PackageFileSize: 95.69 KiB