Package: reconsi Version: 1.19.0 Command: E:\biocbuild\bbs-3.21-bioc\R\bin\R.exe CMD check --no-multiarch --install=check:reconsi.install-out.txt --library=E:\biocbuild\bbs-3.21-bioc\R\library --no-vignettes --timings reconsi_1.19.0.tar.gz StartedAt: 2025-02-11 04:46:35 -0500 (Tue, 11 Feb 2025) EndedAt: 2025-02-11 04:50:14 -0500 (Tue, 11 Feb 2025) EllapsedTime: 219.7 seconds RetCode: 0 Status: OK CheckDir: reconsi.Rcheck Warnings: 0