Package: recountmethylation Version: 1.17.0 Command: /Library/Frameworks/R.framework/Resources/bin/R CMD build --keep-empty-dirs --no-resave-data recountmethylation StartedAt: 2025-02-04 17:22:23 -0500 (Tue, 04 Feb 2025) EndedAt: 2025-02-04 17:23:22 -0500 (Tue, 04 Feb 2025) EllapsedTime: 58.6 seconds RetCode: 0 Status: OK PackageFile: recountmethylation_1.17.0.tar.gz PackageFileSize: 4.858 MiB