Package: recountmethylation Version: 1.17.0 Command: /home/biocbuild/R/R/bin/R CMD check --install=check:recountmethylation.install-out.txt --library=/home/biocbuild/R/R/site-library --no-vignettes --timings recountmethylation_1.17.0.tar.gz StartedAt: 2025-01-28 14:23:48 -0000 (Tue, 28 Jan 2025) EndedAt: 2025-01-28 14:27:10 -0000 (Tue, 28 Jan 2025) EllapsedTime: 201.2 seconds RetCode: 0 Status: OK CheckDir: recountmethylation.Rcheck Warnings: 0