Package: recountmethylation Version: 1.17.0 Command: /home/biocbuild/R/R/bin/R CMD INSTALL recountmethylation StartedAt: 2025-01-29 20:32:38 -0000 (Wed, 29 Jan 2025) EndedAt: 2025-01-29 20:32:41 -0000 (Wed, 29 Jan 2025) EllapsedTime: 3.0 seconds RetCode: 0 Status: OK