Package: recountmethylation Version: 1.17.0 Command: rm -rf recountmethylation.buildbin-libdir && mkdir recountmethylation.buildbin-libdir && /Users/biocbuild/BBS/utils/build-universal.sh recountmethylation_1.17.0.tar.gz /Library/Frameworks/R.framework/Resources/bin/R recountmethylation.buildbin-libdir StartedAt: 2025-02-10 01:11:09 -0500 (Mon, 10 Feb 2025) EndedAt: 2025-02-10 01:11:17 -0500 (Mon, 10 Feb 2025) EllapsedTime: 8.1 seconds RetCode: 0 Status: OK PackageFile: recountmethylation_1.17.0.tgz PackageFileSize: 4.793 MiB